BEGIN:VCALENDAR
VERSION:2.0
PRODID:-//Cantigny - ECPv6.15.6//NONSGML v1.0//EN
CALSCALE:GREGORIAN
METHOD:PUBLISH
X-WR-CALNAME:Cantigny
X-ORIGINAL-URL:https://cantigny.org
X-WR-CALDESC:Events for Cantigny
REFRESH-INTERVAL;VALUE=DURATION:PT1H
X-Robots-Tag:noindex
X-PUBLISHED-TTL:PT1H
BEGIN:VTIMEZONE
TZID:America/Chicago
BEGIN:DAYLIGHT
TZOFFSETFROM:-0600
TZOFFSETTO:-0500
TZNAME:CDT
DTSTART:20250309T080000
END:DAYLIGHT
BEGIN:STANDARD
TZOFFSETFROM:-0500
TZOFFSETTO:-0600
TZNAME:CST
DTSTART:20251102T070000
END:STANDARD
BEGIN:DAYLIGHT
TZOFFSETFROM:-0600
TZOFFSETTO:-0500
TZNAME:CDT
DTSTART:20260308T080000
END:DAYLIGHT
BEGIN:STANDARD
TZOFFSETFROM:-0500
TZOFFSETTO:-0600
TZNAME:CST
DTSTART:20261101T070000
END:STANDARD
BEGIN:DAYLIGHT
TZOFFSETFROM:-0600
TZOFFSETTO:-0500
TZNAME:CDT
DTSTART:20270314T080000
END:DAYLIGHT
BEGIN:STANDARD
TZOFFSETFROM:-0500
TZOFFSETTO:-0600
TZNAME:CST
DTSTART:20271107T070000
END:STANDARD
END:VTIMEZONE
BEGIN:VEVENT
DTSTART;TZID=America/Chicago:20260523T190000
DTEND;TZID=America/Chicago:20260523T210000
DTSTAMP:20260419T094829
CREATED:20260416T174351Z
LAST-MODIFIED:20260416T174351Z
UID:35788-1779562800-1779570000@cantigny.org
SUMMARY:Chicago Rewired - The Premier Chicago Tribute Band
DESCRIPTION:Sounds of Summer Concert Series\nChicago Rewired – The Premier Chicago Tribune Band\nTank Park\nMay 23\, 7 – 9 pm \nThe members of Chicago Rewired – The Premier Chicago Tribute Band feel very fortunate to play the music that they love and to share their passion. It is their sincere desire that at every performance the audience have as much fun as they are having on stage. Come out to a show\, forget about the cares of life for a while\, and let the music carry you away. \n“Chicago®” – one the longest running and most successful pop/rock groups in history with record sales topping 100\,000\,000 including 21 top 10 singles\, 5 consecutive number one albums\, 11 number one singles\, and 5 gold singles. The band comprises a unique blend of talented and seasoned musicians joining forces with the common goal of accurately replicating the timeless music of “Chicago®” – the soundtrack to great memories for so many people.\n\nPurchase Parking \nSounds of Summer Concert Series\nFor over 30 years\, Cantigny has presented great live music in a beautiful outdoor setting. The centralized location allows guests to enjoy a variety of delicious food and beverage options before or during concerts at Cantigny’s Beer Garden and Cafe. \nSchedule\nAll concerts are on Saturday nights from 7 – 9 pm unless noted \nMay 23: Chicago Rewired – The Premier Chicago Tribute Band\nMay 30: RCP Band\nJune 6: Too Much Molly\nJune 13: Wheaton Municipal Band\nJune 20: Van Wailin\nJune 27: DuPage Symphony Orchestra\nJuly 18: Horizon\nJuly 25: Blooze Brothers\nAugust 1: West Suburban Symphony Orchestra\nAugust 8: Hairbangers Ball\nAugust 15: Fletcher Rockwell\nAugust 22: Burning Red – Unofficial Tribute to Taylor Swift\nAugust 29: Vital Signs Band\nSeptember 5: Second Hand News
URL:https://cantigny.org/event/chicago-rewired-26/
LOCATION:First Division Museum Military Park\, 1s151 Winfield Rd.\, Wheaton\, IL\, 60189\, United States
CATEGORIES:Music, Movies & Theater
ATTACH;FMTTYPE=image/jpeg:https://cantigny.org/wp-content/uploads/2024/03/chicago-rewired-e1710965337818.jpg
GEO:41.8522788;-88.1552096
X-APPLE-STRUCTURED-LOCATION;VALUE=URI;X-ADDRESS=First Division Museum Military Park 1s151 Winfield Rd. Wheaton IL 60189 United States;X-APPLE-RADIUS=500;X-TITLE=1s151 Winfield Rd.:geo:-88.1552096,41.8522788
END:VEVENT
END:VCALENDAR