BEGIN:VCALENDAR
VERSION:2.0
PRODID:-//Cantigny - ECPv6.15.6//NONSGML v1.0//EN
CALSCALE:GREGORIAN
METHOD:PUBLISH
X-WR-CALNAME:Cantigny
X-ORIGINAL-URL:https://cantigny.org
X-WR-CALDESC:Events for Cantigny
REFRESH-INTERVAL;VALUE=DURATION:PT1H
X-Robots-Tag:noindex
X-PUBLISHED-TTL:PT1H
BEGIN:VTIMEZONE
TZID:America/Chicago
BEGIN:DAYLIGHT
TZOFFSETFROM:-0600
TZOFFSETTO:-0500
TZNAME:CDT
DTSTART:20250309T080000
END:DAYLIGHT
BEGIN:STANDARD
TZOFFSETFROM:-0500
TZOFFSETTO:-0600
TZNAME:CST
DTSTART:20251102T070000
END:STANDARD
BEGIN:DAYLIGHT
TZOFFSETFROM:-0600
TZOFFSETTO:-0500
TZNAME:CDT
DTSTART:20260308T080000
END:DAYLIGHT
BEGIN:STANDARD
TZOFFSETFROM:-0500
TZOFFSETTO:-0600
TZNAME:CST
DTSTART:20261101T070000
END:STANDARD
BEGIN:DAYLIGHT
TZOFFSETFROM:-0600
TZOFFSETTO:-0500
TZNAME:CDT
DTSTART:20270314T080000
END:DAYLIGHT
BEGIN:STANDARD
TZOFFSETFROM:-0500
TZOFFSETTO:-0600
TZNAME:CST
DTSTART:20271107T070000
END:STANDARD
END:VTIMEZONE
BEGIN:VEVENT
DTSTART;TZID=America/Chicago:20260604T180000
DTEND;TZID=America/Chicago:20260604T190000
DTSTAMP:20260419T100937
CREATED:20260416T144433Z
LAST-MODIFIED:20260416T144433Z
UID:35654-1780596000-1780599600@cantigny.org
SUMMARY:Date with History: Desert Redleg: Artillery Warfare in the First Gulf War
DESCRIPTION:Date with History\nDesert Redleg: Artillery Warfare in the First Gulf War\nColonel (Retired) L. Scott Lingamfelter\nThursday June 4\, 6pm\nFree with paid parking \nJoin us for a presentation by Colonel (Retired) L. Scott Lingamfelter\, as he discusses his experience as an artilleryman in the First Gulf War through the lends of his book\, Desert Redleg: Artillery Warfare in the First Gulf War. When Saddam Hussein’s Iraq invaded Kuwait in August 1990\, triggering the First Gulf War\, a coalition of thirty-five countries led by the United States responded with Operation Desert Storm\, which culminated in a one-hundred-hour coordinated air strike and ground assault that repelled Iraqi forces from Kuwait. But there is much more to that story. Though largely forgotten in descriptions of the war\, an eight-day barrage of artillery fire made this seemingly rapid offensive possible. At the forefront of this offensive were the brave field artillerymen known as “redlegs” in support of the Big Red One’s initial assault on the Iraqi 26th Infantry Division and the onward attack by the division of Iraqi Republican Guards positions deeper inside Iraq and Kuwait. \nIn Desert Redleg: Artillery Warfare in the First Gulf War\, a veteran and former redleg of the 1st Infantry Division Artillery\, “Big Red One”\, Colonel (Retired) L. Scott Lingamfelter\, recounts the logistical and strategic decisions that led to a coalition victory.  Drawing on original battle maps\, official reports\, and personal journals\, Lingamfelter describes the experience of the First Gulf War through a soldier’s eyes and attempts to answer the question of whether the United States “got the job done” in its first sustained Middle Eastern conflict.  Part military history\, part personal memoir\, this book provides a boots-on-the-ground perspective on the largest U.S. artillery bombardment since World War II.\n\nRegister \nAbout the Speaker\nColonel (Retired) L. Scott Lingamfelter lives in Woodbridge\, Virginia\, and attended the Virginia Military Institute\, where he earned a B.A. in History in 1973. After graduating from VMI\, he was commissioned in the Regular Army and began a career as a Field Artilleryman and a Middle East Foreign Area Officer. \nIn 1981\, he completed his M.A. in Comparative Governments of the Middle East and Soviet Foreign Policy from the University of Virginia. After many assignments in Europe\, Asia\, and Middle East\, both in command and staff positions\, he retired in 2001 to pursue a second career as a legislator in the Virginia General Assembly where he served from 2002 to 2018. \nColonel Lingamfelter accumulated significant experience in the war-torn Middle East as a military observer with the United Nations Truce Supervision Organization in Israel\, Lebanon\, and Syria. He later served with the 1st Infantry Division during Operation Desert Storm as the Executive Officer of the Division Artillery that planned and executed the largest field artillery assault on enemy forces since WW II. \nA 1997 graduate of the US Army War College\, Colonel Lingamfelter now devotes his time to writing professionally and routinely contributes to The Washington Times on national security topics.
URL:https://cantigny.org/event/date-with-history-desert-redleg-2/
LOCATION:Visitors Center Theater\, 1s151 Winfield Rd.\, Wheaton\, IL\, 60189\, United States
CATEGORIES:Museum
ATTACH;FMTTYPE=image/jpeg:https://cantigny.org/wp-content/uploads/2026/04/DwH-desert-redleg2.jpg
END:VEVENT
END:VCALENDAR