BEGIN:VCALENDAR
VERSION:2.0
PRODID:-//Cantigny - ECPv6.15.6//NONSGML v1.0//EN
CALSCALE:GREGORIAN
METHOD:PUBLISH
X-WR-CALNAME:Cantigny
X-ORIGINAL-URL:https://cantigny.org
X-WR-CALDESC:Events for Cantigny
REFRESH-INTERVAL;VALUE=DURATION:PT1H
X-Robots-Tag:noindex
X-PUBLISHED-TTL:PT1H
BEGIN:VTIMEZONE
TZID:America/Chicago
BEGIN:DAYLIGHT
TZOFFSETFROM:-0600
TZOFFSETTO:-0500
TZNAME:CDT
DTSTART:20240310T080000
END:DAYLIGHT
BEGIN:STANDARD
TZOFFSETFROM:-0500
TZOFFSETTO:-0600
TZNAME:CST
DTSTART:20241103T070000
END:STANDARD
BEGIN:DAYLIGHT
TZOFFSETFROM:-0600
TZOFFSETTO:-0500
TZNAME:CDT
DTSTART:20250309T080000
END:DAYLIGHT
BEGIN:STANDARD
TZOFFSETFROM:-0500
TZOFFSETTO:-0600
TZNAME:CST
DTSTART:20251102T070000
END:STANDARD
BEGIN:DAYLIGHT
TZOFFSETFROM:-0600
TZOFFSETTO:-0500
TZNAME:CDT
DTSTART:20260308T080000
END:DAYLIGHT
BEGIN:STANDARD
TZOFFSETFROM:-0500
TZOFFSETTO:-0600
TZNAME:CST
DTSTART:20261101T070000
END:STANDARD
END:VTIMEZONE
BEGIN:VEVENT
DTSTART;TZID=America/Chicago:20251221T163000
DTEND;TZID=America/Chicago:20251221T210000
DTSTAMP:20260419T062509
CREATED:20250922T160244Z
LAST-MODIFIED:20250922T160244Z
UID:35282-1766334600-1766350800@cantigny.org
SUMMARY:Christmas at Cantigny Light Show
DESCRIPTION:Christmas at Cantigny Light Show\nSunday\, December 21\nAdult (16+): $25 advance / $38 day of\nChild (3-15): $15 advance / $24 day of\nToddler (Under 3): Free \nChristmas at Cantigny returns for its spectacular third season and once again we are raising the bar for holiday light shows in Chicagoland. \nSavor the moments\nCantigny’s holiday light show sets the stage for memorable experiences with loved ones. Stroll through the gardens as the lighting enhances traditional holiday decorations\, creating moments of wonder for families and couples alike. \nChristmas at Cantigny continues to add interactive elements\, more illuminated gardens\, including a new Northern Lights display in the Rose Garden\, and new surprises around every corner. \nHistoric Splendor and Classic Cocktails\nStep into the warmth of Col. McCormick’s decorated mansion and explore the first floor of this historic landmark as part of the experience. Take in the display of hundreds of iconic Cantigny poinsettias and enjoy a moment together at the hidden bar\, where you can sip hot cocoa or a festive cocktail.\n\nPurchase Admission \nBook early for FREE PARKING ($11 value) and to save on admission admission. \n\nGroup Discounts\nPlanning a large group visit to Christmas at Cantigny? Contact cantigny@cantigny.org for a 10% discount on light show tickets for groups over 20. \n\n \nChristmas Spirits\n$40 Upgrade \nExperience the “SPIRIT” of the season at Christmas at Cantigny. Add the Christmas Spirits upgrade ($40) to any Christmas at Cantigny purchase and indulge in three festive cocktails\, each served at exclusive stations along the charming walk\, including a special drink in the McCormick House Freedom Hall Bar\, and take home a commemorative Cantigny mug. So\, cheer and toast to a festive evening under the twinkling lights!\n\nPurchase Admission
URL:https://cantigny.org/event/light-show-12-21/
LOCATION:Cantigny Park\, 1s151 Winfield Rd\, Wheaton\, IL\, 60189\, United States
CATEGORIES:Kids & Families,Signature Events
ATTACH;FMTTYPE=image/jpeg:https://cantigny.org/wp-content/uploads/2024/09/fountain-tree-hero.jpg
GEO:41.8522788;-88.1552096
X-APPLE-STRUCTURED-LOCATION;VALUE=URI;X-ADDRESS=Cantigny Park 1s151 Winfield Rd Wheaton IL 60189 United States;X-APPLE-RADIUS=500;X-TITLE=1s151 Winfield Rd:geo:-88.1552096,41.8522788
END:VEVENT
END:VCALENDAR